BEGIN:VCALENDAR
VERSION:2.0
BEGIN:VEVENT
SUMMARY:Lanternebyg
LOCATION:
DTSTART:20151103T00000z
CLASS:PUBLIC
END:VEVENT
BEGIN:VEVENT
SUMMARY:Lanternefest
LOCATION:Langballeå
DTSTART:20151111T160000z
DTEND:20151111T180000z
CLASS:PUBLIC
END:VEVENT
BEGIN:VEVENT
SUMMARY:STOMP
LOCATION:
DTSTART:20151120T83000z
DTEND:20151120T143000z
CLASS:PUBLIC
END:VEVENT
BEGIN:VEVENT
SUMMARY:Juleklip
LOCATION:
DTSTART:20151127T00000z
CLASS:PUBLIC
END:VEVENT
BEGIN:VEVENT
SUMMARY:Julefest
LOCATION:
DTSTART:20151210T180000z
DTEND:20151210T200000z
CLASS:PUBLIC
END:VEVENT
BEGIN:VEVENT
SUMMARY:Juleferie
LOCATION:
DTSTART:20151221T00000z
DTEND:20160106T00000z
CLASS:PUBLIC
END:VEVENT
BEGIN:VEVENT
SUMMARY:Karakterbøgerne udleveres
LOCATION:
DTSTART:20160129T00000z
CLASS:PUBLIC
END:VEVENT
BEGIN:VEVENT
SUMMARY:Konsultationer
LOCATION:
DTSTART:20160201T130000z
DTEND:20160201T163000z
CLASS:PUBLIC
END:VEVENT
BEGIN:VEVENT
SUMMARY:Hjemmebesøg
LOCATION:
DTSTART:20160203T00000z
CLASS:PUBLIC
END:VEVENT
BEGIN:VEVENT
SUMMARY:Hjemmebesøg
LOCATION:
DTSTART:20160208T00000z
CLASS:PUBLIC
END:VEVENT
BEGIN:VEVENT
SUMMARY:Konsultationer
LOCATION:
DTSTART:20160211T134500z
DTEND:20160211T163000z
CLASS:PUBLIC
END:VEVENT
BEGIN:VEVENT
SUMMARY:Konsultationer
LOCATION:
DTSTART:20160218T160000z
DTEND:20160218T193000z
CLASS:PUBLIC
END:VEVENT
BEGIN:VEVENT
SUMMARY:Emneuge
LOCATION:
DTSTART:20160307T00000z
DTEND:20160311T00000z
CLASS:PUBLIC
END:VEVENT
END:VCALENDAR
